BEGIN:VCALENDAR
VERSION:2.0
PRODID:-//Riccardo Muti - ECPv5.16.4//NONSGML v1.0//EN
CALSCALE:GREGORIAN
METHOD:PUBLISH
X-WR-CALNAME:Riccardo Muti
X-ORIGINAL-URL:https://www.riccardomuti.com
X-WR-CALDESC:Eventi per Riccardo Muti
BEGIN:VTIMEZONE
TZID:UTC
BEGIN:STANDARD
TZOFFSETFROM:+0000
TZOFFSETTO:+0000
TZNAME:UTC
DTSTART:20250101T000000
END:STANDARD
END:VTIMEZONE
BEGIN:VEVENT
DTSTART;VALUE=DATE:20250302
DTEND;VALUE=DATE:20250303
DTSTAMP:20260420T102600
CREATED:20250114T152156Z
LAST-MODIFIED:20250114T152156Z
UID:17218-1740873600-1740959999@www.riccardomuti.com
SUMMARY:Muti dirige i Vienna Philharmonic – New York
DESCRIPTION:Carnegie Hall\, Isaac Stern Auditorium / Ronald O. Perelman Stage\, New York – ore 14:00 \n\nWolfgang Amadeus Mozart\, Sinfonia Jupiter\nAntonín Dvořák\, Sinfonia N. 9 Dal Nuovo Mondo \nVienna Philharmonic
URL:https://www.riccardomuti.com/event/muti-dirige-i-vienna-philharmonic-new-york-3/
CATEGORIES:Wiener Philharmoniker
ATTACH;FMTTYPE=image/jpeg:https://www.riccardomuti.com/wp-content/uploads/CSO20200122_5597.jpg
END:VEVENT
END:VCALENDAR