BEGIN:VCALENDAR
VERSION:2.0
PRODID:-//Riccardo Muti - ECPv5.16.4//NONSGML v1.0//EN
CALSCALE:GREGORIAN
METHOD:PUBLISH
X-WR-CALNAME:Riccardo Muti
X-ORIGINAL-URL:https://www.riccardomuti.com
X-WR-CALDESC:Eventi per Riccardo Muti
BEGIN:VTIMEZONE
TZID:UTC
BEGIN:STANDARD
TZOFFSETFROM:+0000
TZOFFSETTO:+0000
TZNAME:UTC
DTSTART:20250101T000000
END:STANDARD
END:VTIMEZONE
BEGIN:VEVENT
DTSTART;VALUE=DATE:20250301
DTEND;VALUE=DATE:20250302
DTSTAMP:20260420T102602
CREATED:20250114T145852Z
LAST-MODIFIED:20250114T145852Z
UID:17210-1740787200-1740873599@www.riccardomuti.com
SUMMARY:Muti dirige i Vienna Philharmonic – New York
DESCRIPTION:Carnegie Hall\, Isaac Stern Auditorium / Ronald O. Perelman Stage\, New York – ore 20:00 \nAlfredo Catalani\, Contemplazione. Preludio per orchestra\, op. 26\nIgor Stravinsky\, Divertimento. Suite dal balletto Il bacio della fata\nFranz Schubert\, Sinfonia n. 8 in Do maggiore\, D. 944 (La Grande) \nVienna Philharmonic
URL:https://www.riccardomuti.com/event/muti-dirige-i-vienna-philharmonic-new-york-2/
CATEGORIES:Wiener Philharmoniker
ATTACH;FMTTYPE=image/jpeg:https://www.riccardomuti.com/wp-content/uploads/c-Silvia-Lelli_150221_2282-scaled.jpg
END:VEVENT
END:VCALENDAR