BEGIN:VCALENDAR
VERSION:2.0
PRODID:-//Riccardo Muti - ECPv5.16.4//NONSGML v1.0//EN
CALSCALE:GREGORIAN
METHOD:PUBLISH
X-WR-CALNAME:Riccardo Muti
X-ORIGINAL-URL:https://www.riccardomuti.com
X-WR-CALDESC:Eventi per Riccardo Muti
BEGIN:VTIMEZONE
TZID:UTC
BEGIN:STANDARD
TZOFFSETFROM:+0000
TZOFFSETTO:+0000
TZNAME:UTC
DTSTART:20250101T000000
END:STANDARD
END:VTIMEZONE
BEGIN:VEVENT
DTSTART;VALUE=DATE:20250228
DTEND;VALUE=DATE:20250301
DTSTAMP:20260420T115334
CREATED:20250114T145451Z
LAST-MODIFIED:20250114T145451Z
UID:17204-1740700800-1740787199@www.riccardomuti.com
SUMMARY:Muti dirige i Vienna Philharmonic – New York
DESCRIPTION:Carnegie Hall\, Isaac Stern Auditorium / Ronald O. Perelman Stage\, New York – ore 20:00 \nFranz Schubert\, Sinfonia n. 4 in Do minore\, D. 417 (Tragica)\nAnton Bruckner\, Sinfonia n. 7 in Mi maggiore\, WAB 107 \nVienna Philharmonic
URL:https://www.riccardomuti.com/event/muti-dirige-i-vienna-philharmonic-new-york/
CATEGORIES:Wiener Philharmoniker
ATTACH;FMTTYPE=image/jpeg:https://www.riccardomuti.com/wp-content/uploads/CSO20210923_0622.jpg
END:VEVENT
END:VCALENDAR