BEGIN:VCALENDAR
VERSION:2.0
PRODID:-//Riccardo Muti - ECPv5.16.4//NONSGML v1.0//EN
CALSCALE:GREGORIAN
METHOD:PUBLISH
X-WR-CALNAME:Riccardo Muti
X-ORIGINAL-URL:https://www.riccardomuti.com
X-WR-CALDESC:Eventi per Riccardo Muti
BEGIN:VTIMEZONE
TZID:UTC
BEGIN:STANDARD
TZOFFSETFROM:+0000
TZOFFSETTO:+0000
TZNAME:UTC
DTSTART:20250101T000000
END:STANDARD
END:VTIMEZONE
BEGIN:VEVENT
DTSTART;VALUE=DATE:20250225
DTEND;VALUE=DATE:20250226
DTSTAMP:20260422T104259
CREATED:20250114T144756Z
LAST-MODIFIED:20250114T144756Z
UID:17198-1740441600-1740527999@www.riccardomuti.com
SUMMARY:Muti dirige i Vienna Philharmonic - Milano
DESCRIPTION:Teatro alla Scala di Milano\, ore 20:00 \n\n\n\n\n\n\nFranz Schubert\, Sinfonia n. 4 in Do minore\, D. 417 (Tragica)\nAnton Bruckner\, Sinfonia n. 7 in Mi maggiore\, WAB 107 \nVienna Philharmonic
URL:https://www.riccardomuti.com/event/muti-dirige-i-vienna-philharmonic-milano/
CATEGORIES:Wiener Philharmoniker
ATTACH;FMTTYPE=image/jpeg:https://www.riccardomuti.com/wp-content/uploads/CSO20220120_109.jpg
END:VEVENT
END:VCALENDAR