BEGIN:VCALENDAR
VERSION:2.0
PRODID:-//Riccardo Muti - ECPv5.16.4//NONSGML v1.0//EN
CALSCALE:GREGORIAN
METHOD:PUBLISH
X-WR-CALNAME:Riccardo Muti
X-ORIGINAL-URL:https://www.riccardomuti.com
X-WR-CALDESC:Eventi per Riccardo Muti
BEGIN:VTIMEZONE
TZID:UTC
BEGIN:STANDARD
TZOFFSETFROM:+0000
TZOFFSETTO:+0000
TZNAME:UTC
DTSTART:20250101T000000
END:STANDARD
END:VTIMEZONE
BEGIN:VEVENT
DTSTART;VALUE=DATE:20250218
DTEND;VALUE=DATE:20250219
DTSTAMP:20260420T132559
CREATED:20250114T143125Z
LAST-MODIFIED:20250114T143125Z
UID:17185-1739836800-1739923199@www.riccardomuti.com
SUMMARY:4th Soirée - Vienna
DESCRIPTION:Musikverein\, Golden Hall\, Vienna\, Austria – ore 19:30 \nWolfgang Amadeus Mozart\, Sinfonia Jupiter\nAntonín Dvořák\, Sinfonia N. 9 Dal Nuovo Mondo \nVienna Philharmonic
URL:https://www.riccardomuti.com/event/4th-soiree-vienna/
CATEGORIES:Wiener Philharmoniker
ATTACH;FMTTYPE=image/png:https://www.riccardomuti.com/wp-content/uploads/RM-2.png
END:VEVENT
END:VCALENDAR