BEGIN:VCALENDAR
VERSION:2.0
PRODID:-//Riccardo Muti - ECPv5.16.4//NONSGML v1.0//EN
CALSCALE:GREGORIAN
METHOD:PUBLISH
X-WR-CALNAME:Riccardo Muti
X-ORIGINAL-URL:https://www.riccardomuti.com
X-WR-CALDESC:Eventi per Riccardo Muti
BEGIN:VTIMEZONE
TZID:UTC
BEGIN:STANDARD
TZOFFSETFROM:+0000
TZOFFSETTO:+0000
TZNAME:UTC
DTSTART:20250101T000000
END:STANDARD
END:VTIMEZONE
BEGIN:VEVENT
DTSTART;VALUE=DATE:20250214
DTEND;VALUE=DATE:20250215
DTSTAMP:20260420T132616
CREATED:20250114T141435Z
LAST-MODIFIED:20250114T141435Z
UID:17171-1739491200-1739577599@www.riccardomuti.com
SUMMARY:Muti dirige Schubert e Bruckner - Graz
DESCRIPTION:Musikverein für Steiermark\, Graz\, Austria – ore 19:30 \n\n\n\n\n\n\nFranz Schubert\, Sinfonia N. 4 in Do Minore\, D. 417 (Tragica)\nAnton Bruckner\, Sinfonia N. 7 in Mi maggiore\n\n\n\nVienna Philharmonic
URL:https://www.riccardomuti.com/event/muti-dirige-schubert-e-bruckner-graz/
CATEGORIES:Wiener Philharmoniker
ATTACH;FMTTYPE=image/jpeg:https://www.riccardomuti.com/wp-content/uploads/CSO20230202_3132f.jpg
END:VEVENT
END:VCALENDAR