BEGIN:VCALENDAR
VERSION:2.0
PRODID:-//Riccardo Muti - ECPv5.16.4//NONSGML v1.0//EN
CALSCALE:GREGORIAN
METHOD:PUBLISH
X-WR-CALNAME:Riccardo Muti
X-ORIGINAL-URL:https://www.riccardomuti.com
X-WR-CALDESC:Eventi per Riccardo Muti
BEGIN:VTIMEZONE
TZID:UTC
BEGIN:STANDARD
TZOFFSETFROM:+0000
TZOFFSETTO:+0000
TZNAME:UTC
DTSTART:20240101T000000
END:STANDARD
END:VTIMEZONE
BEGIN:VEVENT
DTSTART;VALUE=DATE:20241230
DTEND;VALUE=DATE:20250102
DTSTAMP:20260420T145241
CREATED:20241007T144413Z
LAST-MODIFIED:20241007T144824Z
UID:17037-1735516800-1735775999@www.riccardomuti.com
SUMMARY:Celebrazioni per il nuovo anno - Vienna
DESCRIPTION:Musikverein\, Golden Hall\, Vienna\, Austria \nDirettore Riccardo Muti\nOrchestra Vienna Philharmonic\nLunedì 30 dicembre 2024\, ore 11:00 – Anteprima del Concerto di Capodanno \nMartedì 31 dicembre 2024\, ore 19:30 – Concerto della Vigilia di Capodanno \nMercoledì 1 gennaio 2025\, ore 11:15 – Concerto di Capodanno
URL:https://www.riccardomuti.com/event/new-years-concert/
CATEGORIES:Concerto,Wiener Philharmoniker
ATTACH;FMTTYPE=image/jpeg:https://www.riccardomuti.com/wp-content/uploads/muti_njk_c_dieter-nagl.jpg__1615x900_q85_crop_subject_location-24151587_subsampling-2.jpg
END:VEVENT
END:VCALENDAR