BEGIN:VCALENDAR
VERSION:2.0
PRODID:-//Riccardo Muti - ECPv5.16.4//NONSGML v1.0//EN
CALSCALE:GREGORIAN
METHOD:PUBLISH
X-WR-CALNAME:Riccardo Muti
X-ORIGINAL-URL:https://www.riccardomuti.com
X-WR-CALDESC:Eventi per Riccardo Muti
BEGIN:VTIMEZONE
TZID:UTC
BEGIN:STANDARD
TZOFFSETFROM:+0000
TZOFFSETTO:+0000
TZNAME:UTC
DTSTART:20240101T000000
END:STANDARD
END:VTIMEZONE
BEGIN:VEVENT
DTSTART;VALUE=DATE:20240512
DTEND;VALUE=DATE:20240513
DTSTAMP:20260421T042615
CREATED:20240209T101938Z
LAST-MODIFIED:20240209T101938Z
UID:16665-1715472000-1715558399@www.riccardomuti.com
SUMMARY:Muti dirige i Wiener Philharmoniker – Firenze
DESCRIPTION:Opera di Firenze (Teatro del Maggio Musicale Fiorentino)\, Firenze\, Italia – ore 17:00 \nWolfgang Amadeus Mozart Sinfonia N. 35\, K. 385 (“Haffner”)\nFranz Schubert Sinfonia N.  8\, D. 944 (“The Great”) \nORCHESTRA Wiener Philharmoniker
URL:https://www.riccardomuti.com/event/muti-dirige-i-wiener-philharmoniker-firenze/
CATEGORIES:Concerto,Wiener Philharmoniker
ATTACH;FMTTYPE=image/jpeg:https://www.riccardomuti.com/wp-content/uploads/CSO20230122_0376.jpg
END:VEVENT
END:VCALENDAR