BEGIN:VCALENDAR
VERSION:2.0
PRODID:-//Riccardo Muti - ECPv5.16.4//NONSGML v1.0//EN
CALSCALE:GREGORIAN
METHOD:PUBLISH
X-WR-CALNAME:Riccardo Muti
X-ORIGINAL-URL:https://www.riccardomuti.com
X-WR-CALDESC:Eventi per Riccardo Muti
BEGIN:VTIMEZONE
TZID:UTC
BEGIN:STANDARD
TZOFFSETFROM:+0000
TZOFFSETTO:+0000
TZNAME:UTC
DTSTART:20240101T000000
END:STANDARD
END:VTIMEZONE
BEGIN:VEVENT
DTSTART;VALUE=DATE:20240506
DTEND;VALUE=DATE:20240508
DTSTAMP:20260421T042424
CREATED:20240208T144941Z
LAST-MODIFIED:20240208T144941Z
UID:16644-1714953600-1715126399@www.riccardomuti.com
SUMMARY:Concert of the Society of Friends of Music - Vienna
DESCRIPTION:Musikverein\, Golden Hall\, Vienna\, Austria \nLunedì 6 maggio ore 19:30\nMartedì 7 maggio ore 19:30 \nLudwig van Beethoven Symphony No. 9 in D Minor\, op. 125 \nORCHESTRA Vienna Philharmonic\nSOPRANO Julia Kleiter\nCONTRALTO Alisa Kolosova\nTENORE Michael Spyres\nBASSO Günther Groissböck\nCORO
URL:https://www.riccardomuti.com/event/concert-of-the-society-of-friends-of-music-vienna-2/
CATEGORIES:Concerto,Wiener Philharmoniker
ATTACH;FMTTYPE=image/jpeg:https://www.riccardomuti.com/wp-content/uploads/CSO20230228_001633.jpg
END:VEVENT
END:VCALENDAR