BEGIN:VCALENDAR
VERSION:2.0
PRODID:-//Riccardo Muti - ECPv5.16.4//NONSGML v1.0//EN
CALSCALE:GREGORIAN
METHOD:PUBLISH
X-WR-CALNAME:Riccardo Muti
X-ORIGINAL-URL:https://www.riccardomuti.com
X-WR-CALDESC:Eventi per Riccardo Muti
BEGIN:VTIMEZONE
TZID:UTC
BEGIN:STANDARD
TZOFFSETFROM:+0000
TZOFFSETTO:+0000
TZNAME:UTC
DTSTART:20240101T000000
END:STANDARD
END:VTIMEZONE
BEGIN:VEVENT
DTSTART;VALUE=DATE:20240709
DTEND;VALUE=DATE:20240710
DTSTAMP:20260423T074315
CREATED:20240508T145422Z
LAST-MODIFIED:20240508T145422Z
UID:16861-1720483200-1720569599@www.riccardomuti.com
SUMMARY:Le vie dell’Amicizia – Lampedusa
DESCRIPTION:Se c’è un luogo che riassume in sé tutte le tragedie\, e insieme le speranze\, che i viaggi disperati attraverso il Mediterraneo portano con sé\, quello è la piccola isola di Lampedusa. È lì\, primo lembo d’Europa\, che approdano stremati i migranti. È lì che troppo spesso si raccolgono i corpi di chi non ce l’ha fatta. È lì che inevitabilmente si compie il viaggio dell’amicizia: di fronte alle acque in cui anche la giovane Samia ha trovato la morte. E allora\, ecco che in quello spazio di meditazione\, quasi di preghiera\, che è il Teatro naturale della cava\, al cospetto di quel “barcone” recuperato al naufragio e divenuto simbolo\, e monito\, di tutti quelli che ogni giorno rischiano la traversata\, voci e strumenti risuoneranno sul rumore delle onde del mare. Perché torni a unire e mai più a dividere. \n\n\n\n\n\n\nLampedusa\, Teatro naturale della Cava ore 21:00 \nOrchestra Giovanile Luigi Cherubini\nCoro della Cattedrale di Siena Guido Chigi Saracini\nmaestro del coro Lorenzo Donati\nCoro a Coro diretto da Rachele Andrioli \nNicolò Balducci controtenore\nGiovanni Sollima violoncello\nLina Gervasi theremin \naccoglienza Banda dell’Associazione Culturale Musicale Lipadusa\ndiretta da Gaetano Palmieri \nSamia Suite\ncomposizione elettroacustica di Alessandro Baldessari\norchestrazione di Claudio Cavallin\ncommissione di Ravenna Festival \nGiovanni Sollima\nStabat Mater per controtenore\, theremin\, coro e orchestra\nsu versi di Filippo Arriva\n \nCanti migranti
URL:https://www.riccardomuti.com/event/le-vie-dellamicizia-lampedusa/
CATEGORIES:Orchestra Cherubini,Vie dell'Amicizia
ATTACH;FMTTYPE=image/png:https://www.riccardomuti.com/wp-content/uploads/Foto-RM-1.png
END:VEVENT
END:VCALENDAR