BEGIN:VCALENDAR
VERSION:2.0
PRODID:-//Riccardo Muti - ECPv5.16.4//NONSGML v1.0//EN
CALSCALE:GREGORIAN
METHOD:PUBLISH
X-WR-CALNAME:Riccardo Muti
X-ORIGINAL-URL:https://www.riccardomuti.com
X-WR-CALDESC:Eventi per Riccardo Muti
BEGIN:VTIMEZONE
TZID:UTC
BEGIN:STANDARD
TZOFFSETFROM:+0000
TZOFFSETTO:+0000
TZNAME:UTC
DTSTART:20240101T000000
END:STANDARD
END:VTIMEZONE
BEGIN:VEVENT
DTSTART;VALUE=DATE:20240628
DTEND;VALUE=DATE:20240629
DTSTAMP:20260423T085206
CREATED:20240528T101245Z
LAST-MODIFIED:20240528T101245Z
UID:16912-1719532800-1719619199@www.riccardomuti.com
SUMMARY:Puccini secondo Muti - Lucca
DESCRIPTION:Mura Storiche di Lucca\, ore 21:00 \nConcerto evento nell’anno delle Celebrazioni per Giacomo Puccini. \nOrchestra Cherubini \nL’evento verrà trasmesso in diretta mondovisione.
URL:https://www.riccardomuti.com/event/puccini-secondo-muti-lucca/
CATEGORIES:Concerto,Orchestra Cherubini
ATTACH;FMTTYPE=image/jpeg:https://www.riccardomuti.com/wp-content/uploads/440068963_956105422570012_6276482293125525227_n.jpeg
END:VEVENT
END:VCALENDAR