BEGIN:VCALENDAR
VERSION:2.0
PRODID:-//Riccardo Muti - ECPv5.16.4//NONSGML v1.0//EN
CALSCALE:GREGORIAN
METHOD:PUBLISH
X-WR-CALNAME:Riccardo Muti
X-ORIGINAL-URL:https://www.riccardomuti.com
X-WR-CALDESC:Eventi per Riccardo Muti
BEGIN:VTIMEZONE
TZID:UTC
BEGIN:STANDARD
TZOFFSETFROM:+0000
TZOFFSETTO:+0000
TZNAME:UTC
DTSTART:20240101T000000
END:STANDARD
END:VTIMEZONE
BEGIN:VEVENT
DTSTART;VALUE=DATE:20240324
DTEND;VALUE=DATE:20240325
DTSTAMP:20260423T135444
CREATED:20240312T085922Z
LAST-MODIFIED:20240312T085922Z
UID:16726-1711238400-1711324799@www.riccardomuti.com
SUMMARY:Concerto in occasione dell'80° anniversario dell'eccidio delle Fosse Ardeatine - Roma
DESCRIPTION:Sala Santa Cecilia\, Auditorium Parco Della Musica Di Roma\, ore 21:00 \nOrchestra Giovanile Luigi Cherubini\nstrumentisti Banda dell’Arma dei Carabinieri \nFranz Schubert \nSinfonia n. 8 in si minore “Incompiuta” D. 759 \nWilliam Schuman \nSinfonia N. 9 (Le fosse Ardeatine)\nPrima esecuzione italiana
URL:https://www.riccardomuti.com/event/concerto-in-occasione-dell80-anniversario-delleccidio-delle-fosse-ardeatine-roma/
CATEGORIES:Concerto,Orchestra Cherubini
ATTACH;FMTTYPE=image/jpeg:https://www.riccardomuti.com/wp-content/uploads/CSO20230122_0376.jpg
END:VEVENT
END:VCALENDAR