BEGIN:VCALENDAR
VERSION:2.0
PRODID:-//Riccardo Muti - ECPv5.16.4//NONSGML v1.0//EN
CALSCALE:GREGORIAN
METHOD:PUBLISH
X-WR-CALNAME:Riccardo Muti
X-ORIGINAL-URL:https://www.riccardomuti.com
X-WR-CALDESC:Eventi per Riccardo Muti
BEGIN:VTIMEZONE
TZID:UTC
BEGIN:STANDARD
TZOFFSETFROM:+0000
TZOFFSETTO:+0000
TZNAME:UTC
DTSTART:20240101T000000
END:STANDARD
END:VTIMEZONE
BEGIN:VEVENT
DTSTART;VALUE=DATE:20240316
DTEND;VALUE=DATE:20240317
DTSTAMP:20260423T135535
CREATED:20240207T145416Z
LAST-MODIFIED:20240207T145416Z
UID:16623-1710547200-1710633599@www.riccardomuti.com
SUMMARY:Concerto inaugurale: Spontini 2024 - Jesi
DESCRIPTION:Teatro Pergolesi\, ore 21:00 \nCONCERTO INAUGURALE: SPONTINI 2024 \nmusiche di G.B. Pergolesi e Gaspare Spontini \nsoprano Caterina Sala\ncontralto Margherita Sala\ndirettore Riccardo Muti \nOrchestra Giovanile “L. Cherubini”
URL:https://www.riccardomuti.com/event/concerto-inaugurale-spontini-2024-jesi/
CATEGORIES:Concerto,Orchestra Cherubini
ATTACH;FMTTYPE=image/png:https://www.riccardomuti.com/wp-content/uploads/RM-4.png
END:VEVENT
END:VCALENDAR