BEGIN:VCALENDAR
VERSION:2.0
PRODID:-//Riccardo Muti - ECPv5.16.4//NONSGML v1.0//EN
CALSCALE:GREGORIAN
METHOD:PUBLISH
X-WR-CALNAME:Riccardo Muti
X-ORIGINAL-URL:https://www.riccardomuti.com
X-WR-CALDESC:Eventi per Riccardo Muti
BEGIN:VTIMEZONE
TZID:UTC
BEGIN:STANDARD
TZOFFSETFROM:+0000
TZOFFSETTO:+0000
TZNAME:UTC
DTSTART:20230101T000000
END:STANDARD
END:VTIMEZONE
BEGIN:VEVENT
DTSTART;VALUE=DATE:20230707
DTEND;VALUE=DATE:20230708
DTSTAMP:20260424T025100
CREATED:20230313T103543Z
LAST-MODIFIED:20230504T133504Z
UID:15610-1688688000-1688774399@www.riccardomuti.com
SUMMARY:Le vie dell'amicizia\, Ravenna
DESCRIPTION:Palazzo Mauro De André\, ore 21:00 \nUn ponte di fratellanza attraverso l’arte e la cultura\nLe vie dell’Amicizia: Ravenna – Jerash – Pompei\ndirettore\nRiccardo Muti \nOrchestra Giovanile Luigi Cherubini\ne musicisti dell’Orchestra del Conservatorio Nazionale di Amman \nCoro Cremona Antiqua\nmaestro del coro Antonio Greco \nMonica Conesa soprano\nFilippo Mineccia controtenore\nRiccardo Zanellato basso \nChristoph Willibald Gluck\nII Atto da Orfeo ed Euridice \nVincenzo Bellini\nda Norma\nSinfonia\n“Ite sul colle\, o Druidi”\n“Norma viene: le cinge la chioma”\n“Casta diva\, che inargenti” \nJohannes Brahms\nDas Schicksalslied\n(Canto del destino) per coro e orchestra\, op. 54
URL:https://www.riccardomuti.com/event/le-vie-dellamicizia-ravenna-2/
CATEGORIES:Concerto,Orchestra Cherubini,Vie dell'Amicizia
ATTACH;FMTTYPE=image/png:https://www.riccardomuti.com/wp-content/uploads/RM-4.png
END:VEVENT
END:VCALENDAR