BEGIN:VCALENDAR
VERSION:2.0
PRODID:-//Riccardo Muti - ECPv5.16.4//NONSGML v1.0//EN
CALSCALE:GREGORIAN
METHOD:PUBLISH
X-WR-CALNAME:Riccardo Muti
X-ORIGINAL-URL:https://www.riccardomuti.com
X-WR-CALDESC:Eventi per Riccardo Muti
BEGIN:VTIMEZONE
TZID:UTC
BEGIN:STANDARD
TZOFFSETFROM:+0000
TZOFFSETTO:+0000
TZNAME:UTC
DTSTART:20220101T000000
END:STANDARD
END:VTIMEZONE
BEGIN:VEVENT
DTSTART;VALUE=DATE:20221217
DTEND;VALUE=DATE:20221218
DTSTAMP:20260424T143250
CREATED:20221201T084811Z
LAST-MODIFIED:20221201T084811Z
UID:15151-1671235200-1671321599@www.riccardomuti.com
SUMMARY:Muti dirige Verdi\, Rimini
DESCRIPTION:Teatro Galli\, Rimini ore 21:00 \nVerdi Messa da Requiem \nOrchestra Giovanile Luigi Cherubini \nsoprano Juliana Grigoryan\nmezzosoprano Isabel De Paoli\ntenore Klodjan Kaçani\nbasso Riccardo Zanellato \nCoro Cherubini – Coro Cremona Antiqua\nmaestro del Coro Antonio Greco
URL:https://www.riccardomuti.com/event/muti-dirige-verdi-rimini/
CATEGORIES:Concerto,Orchestra Cherubini
ATTACH;FMTTYPE=image/png:https://www.riccardomuti.com/wp-content/uploads/RM-1.png
END:VEVENT
END:VCALENDAR