BEGIN:VCALENDAR
VERSION:2.0
PRODID:-//Riccardo Muti - ECPv5.16.4//NONSGML v1.0//EN
CALSCALE:GREGORIAN
METHOD:PUBLISH
X-WR-CALNAME:Riccardo Muti
X-ORIGINAL-URL:https://www.riccardomuti.com
X-WR-CALDESC:Eventi per Riccardo Muti
BEGIN:VTIMEZONE
TZID:Europe/Rome
BEGIN:DAYLIGHT
TZOFFSETFROM:+0100
TZOFFSETTO:+0200
TZNAME:CEST
DTSTART:20210328T010000
END:DAYLIGHT
BEGIN:STANDARD
TZOFFSETFROM:+0200
TZOFFSETTO:+0100
TZNAME:CET
DTSTART:20211031T010000
END:STANDARD
END:VTIMEZONE
BEGIN:VEVENT
DTSTART;VALUE=DATE:20210902
DTEND;VALUE=DATE:20210903
DTSTAMP:20260425T150422
CREATED:20210713T084235Z
LAST-MODIFIED:20210713T084235Z
UID:13357-1630540800-1630627199@www.riccardomuti.com
SUMMARY:Muti dirige Schubert\, Ravenna
DESCRIPTION:Palazzo Mauro De André\, ore 21:30 \nFranz Schubert\nOuverture in do maggiore “im italienischen Stile” D. 591\nSinfonia n. 9 in do maggiore “La grande” D. 944 \nOrchestra Cherubini
URL:https://www.riccardomuti.com/event/muti-dirige-beethoven-e-schubert-ravenna/
CATEGORIES:Concerto,Orchestra Cherubini
ATTACH;FMTTYPE=image/jpeg:https://www.riccardomuti.com/wp-content/uploads/DSZ2322.jpg
END:VEVENT
END:VCALENDAR