BEGIN:VCALENDAR
VERSION:2.0
PRODID:-//Riccardo Muti - ECPv5.16.4//NONSGML v1.0//EN
CALSCALE:GREGORIAN
METHOD:PUBLISH
X-WR-CALNAME:Riccardo Muti
X-ORIGINAL-URL:https://www.riccardomuti.com
X-WR-CALDESC:Eventi per Riccardo Muti
BEGIN:VTIMEZONE
TZID:Europe/Rome
BEGIN:DAYLIGHT
TZOFFSETFROM:+0100
TZOFFSETTO:+0200
TZNAME:CEST
DTSTART:20210328T010000
END:DAYLIGHT
BEGIN:STANDARD
TZOFFSETFROM:+0200
TZOFFSETTO:+0100
TZNAME:CET
DTSTART:20211031T010000
END:STANDARD
END:VTIMEZONE
BEGIN:VEVENT
DTSTART;VALUE=DATE:20210716
DTEND;VALUE=DATE:20210717
DTSTAMP:20260425T181236
CREATED:20210518T155600Z
LAST-MODIFIED:20210713T083702Z
UID:12769-1626393600-1626479999@www.riccardomuti.com
SUMMARY:RIMANDATO: Muti dirige Beethoven e Schubert\, Ravenna
DESCRIPTION:Rimandato al 2 settembre 2021 \nRocca Brancaleone\, ore 21:30 \nLudwig van Beethoven\nDie Weihe des Hauses (La consacrazione della casa)\,\nOuverture in do maggiore per orchestra op. 124 \nFranz Schubert\nSinfonia n. 9 in do maggiore “La grande” D. 944 \nOrchestra Cherubini
URL:https://www.riccardomuti.com/event/muti-dirige-beethoven-e-schubert-ravenna-2/
CATEGORIES:Concerto,Orchestra Cherubini
ATTACH;FMTTYPE=image/png:https://www.riccardomuti.com/wp-content/uploads/RM-Cherubini.png
END:VEVENT
END:VCALENDAR