BEGIN:VCALENDAR
VERSION:2.0
PRODID:-//Riccardo Muti - ECPv5.16.4//NONSGML v1.0//EN
CALSCALE:GREGORIAN
METHOD:PUBLISH
X-WR-CALNAME:Riccardo Muti
X-ORIGINAL-URL:https://www.riccardomuti.com
X-WR-CALDESC:Eventi per Riccardo Muti
BEGIN:VTIMEZONE
TZID:Europe/Rome
BEGIN:DAYLIGHT
TZOFFSETFROM:+0100
TZOFFSETTO:+0200
TZNAME:CEST
DTSTART:20210328T010000
END:DAYLIGHT
BEGIN:STANDARD
TZOFFSETFROM:+0200
TZOFFSETTO:+0100
TZNAME:CET
DTSTART:20211031T010000
END:STANDARD
END:VTIMEZONE
BEGIN:VEVENT
DTSTART;VALUE=DATE:20210714
DTEND;VALUE=DATE:20210715
DTSTAMP:20260425T181338
CREATED:20210623T120513Z
LAST-MODIFIED:20210623T120513Z
UID:13251-1626220800-1626307199@www.riccardomuti.com
SUMMARY:Muti dirige Bellini e Schubert\, Taormina
DESCRIPTION:Teatro Antico \nBellini\, Sinfonia da Norma\nSchubert\, Sinfonia n. 9 in do maggiore La Grande D944\nOrchestra Giovanile Luigi Cherubini
URL:https://www.riccardomuti.com/event/muti-dirige-bellini-e-schubert-taormina/
CATEGORIES:Orchestra Cherubini
ATTACH;FMTTYPE=image/jpeg:https://www.riccardomuti.com/wp-content/uploads/CSO190130_4103.jpg
END:VEVENT
END:VCALENDAR