BEGIN:VCALENDAR
VERSION:2.0
PRODID:-//Riccardo Muti - ECPv5.16.4//NONSGML v1.0//EN
CALSCALE:GREGORIAN
METHOD:PUBLISH
X-WR-CALNAME:Riccardo Muti
X-ORIGINAL-URL:https://www.riccardomuti.com
X-WR-CALDESC:Eventi per Riccardo Muti
BEGIN:VTIMEZONE
TZID:Europe/Rome
BEGIN:DAYLIGHT
TZOFFSETFROM:+0100
TZOFFSETTO:+0200
TZNAME:CEST
DTSTART:20210328T010000
END:DAYLIGHT
BEGIN:STANDARD
TZOFFSETFROM:+0200
TZOFFSETTO:+0100
TZNAME:CET
DTSTART:20211031T010000
END:STANDARD
END:VTIMEZONE
BEGIN:VEVENT
DTSTART;VALUE=DATE:20210712
DTEND;VALUE=DATE:20210713
DTSTAMP:20260425T181408
CREATED:20210616T145439Z
LAST-MODIFIED:20210616T145439Z
UID:13217-1626048000-1626134399@www.riccardomuti.com
SUMMARY:Muti dirige Schubert\, Venezia
DESCRIPTION:Teatro La Fenice ore 20:00 \nFranz Schubert\nOverture in do maggiore op. 170 nello stile italiano D591\nSinfonia in do maggiore D 944 La Grande \nOrchestra Giovanile Luigi Cherubini
URL:https://www.riccardomuti.com/event/muti-dirige-schubert-venezia/
CATEGORIES:Concerto,Orchestra Cherubini
ATTACH;FMTTYPE=image/jpeg:https://www.riccardomuti.com/wp-content/uploads/RM.jpg
END:VEVENT
END:VCALENDAR