BEGIN:VCALENDAR
VERSION:2.0
PRODID:-//Riccardo Muti - ECPv5.16.4//NONSGML v1.0//EN
CALSCALE:GREGORIAN
METHOD:PUBLISH
X-WR-CALNAME:Riccardo Muti
X-ORIGINAL-URL:https://www.riccardomuti.com
X-WR-CALDESC:Eventi per Riccardo Muti
BEGIN:VTIMEZONE
TZID:Europe/Rome
BEGIN:DAYLIGHT
TZOFFSETFROM:+0100
TZOFFSETTO:+0200
TZNAME:CEST
DTSTART:20210328T010000
END:DAYLIGHT
BEGIN:STANDARD
TZOFFSETFROM:+0200
TZOFFSETTO:+0100
TZNAME:CET
DTSTART:20211031T010000
END:STANDARD
END:VTIMEZONE
BEGIN:VEVENT
DTSTART;VALUE=DATE:20210321
DTEND;VALUE=DATE:20210322
DTSTAMP:20260426T005948
CREATED:20210319T160154Z
LAST-MODIFIED:20210319T161658Z
UID:12340-1616284800-1616371199@www.riccardomuti.com
SUMMARY:Tour in streaming dei Teatri Italiani - Bergamo
DESCRIPTION:Dal Teatro Donizetti\, ore 11:00 \nDisponibile su bper.it\, ansa.it e ravennafestival.live \nDonizetti\, Sinfonia da Don Pasquale\nBeethoven\, Sinfonia n.3 “Eroica” \n\n\n\n\nOrchestra Giovanile Luigi Cherubini
URL:https://www.riccardomuti.com/event/tour-in-streaming-dei-teatri-italiani-bergamo-2/
CATEGORIES:Concerto,Orchestra Cherubini
ATTACH;FMTTYPE=image/jpeg:https://www.riccardomuti.com/wp-content/uploads/RM.jpg
END:VEVENT
END:VCALENDAR