BEGIN:VCALENDAR
VERSION:2.0
PRODID:-//Riccardo Muti - ECPv5.16.4//NONSGML v1.0//EN
CALSCALE:GREGORIAN
METHOD:PUBLISH
X-WR-CALNAME:Riccardo Muti
X-ORIGINAL-URL:https://www.riccardomuti.com
X-WR-CALDESC:Eventi per Riccardo Muti
BEGIN:VTIMEZONE
TZID:Europe/Rome
BEGIN:DAYLIGHT
TZOFFSETFROM:+0100
TZOFFSETTO:+0200
TZNAME:CEST
DTSTART:20200329T010000
END:DAYLIGHT
BEGIN:STANDARD
TZOFFSETFROM:+0200
TZOFFSETTO:+0100
TZNAME:CET
DTSTART:20201025T010000
END:STANDARD
END:VTIMEZONE
BEGIN:VEVENT
DTSTART;VALUE=DATE:20201204
DTEND;VALUE=DATE:20201206
DTSTAMP:20260426T062346
CREATED:20201026T154342Z
LAST-MODIFIED:20201211T083528Z
UID:11984-1607040000-1607212799@www.riccardomuti.com
SUMMARY:SOSPESO: Muti dirige Verdi\, Palermo
DESCRIPTION:SPETTACOLO SOSPESO IN OTTEMPERANZA AL DPCM DEL 24 OTTOBRE 2020 \nVenerdì 4 dicembre\, Teatro Massimo\, ore 20:30\nSabato 5 dicembre\, Teatro Massimo\, ore 20:30 \nGiuseppe Verdi\, Requiem \nOrchestra e coro del Teatro Massimo\nCiro Visco\, maestro del Coro\nJoyce El-Khoury\, soprano\nMartina Belli\, mezzosoprano\nSaimir Pirgu\, tenore\nRiccardo Zanellato\, basso\n\n 
URL:https://www.riccardomuti.com/event/muti-dirige-verdi-palermo/
CATEGORIES:Concerto,Orchestra Cherubini
ATTACH;FMTTYPE=image/jpeg:https://www.riccardomuti.com/wp-content/uploads/old_site_img/Amicizia3lug_2172.jpg
END:VEVENT
END:VCALENDAR