BEGIN:VCALENDAR
VERSION:2.0
PRODID:-//Riccardo Muti - ECPv5.16.4//NONSGML v1.0//EN
CALSCALE:GREGORIAN
METHOD:PUBLISH
X-WR-CALNAME:Riccardo Muti
X-ORIGINAL-URL:https://www.riccardomuti.com
X-WR-CALDESC:Eventi per Riccardo Muti
BEGIN:VTIMEZONE
TZID:Europe/Rome
BEGIN:DAYLIGHT
TZOFFSETFROM:+0100
TZOFFSETTO:+0200
TZNAME:CEST
DTSTART:20200329T010000
END:DAYLIGHT
BEGIN:STANDARD
TZOFFSETFROM:+0200
TZOFFSETTO:+0100
TZNAME:CET
DTSTART:20201025T010000
END:STANDARD
END:VTIMEZONE
BEGIN:VEVENT
DTSTART;VALUE=DATE:20201130
DTEND;VALUE=DATE:20201201
DTSTAMP:20260426T062346
CREATED:20201026T153116Z
LAST-MODIFIED:20201119T092324Z
UID:11978-1606694400-1606780799@www.riccardomuti.com
SUMMARY:SOSPESO: Muti dirige l'Orchestra Cherubini\, Palermo
DESCRIPTION:SPETTACOLO SOSPESO IN OTTEMPERANZA AL DPCM DEL 24 OTTOBRE 2020 \nTeatro Massimo\, ore 20:30 \nFranz Schubert\, Sinfonia n. 3 in re maggiore\, D. 200 \nAntonín Dvořák\, Sinfonia n. 9 in mi minore op. 95\, Dal Nuovo Mondo\n\nOrchestra Cherubini
URL:https://www.riccardomuti.com/event/muti-dirige-lorchestra-cherubini-palermo/
CATEGORIES:Concerto,Orchestra Cherubini
ATTACH;FMTTYPE=image/jpeg:https://www.riccardomuti.com/wp-content/uploads/CSO191116_0972.jpg
END:VEVENT
END:VCALENDAR