BEGIN:VCALENDAR
VERSION:2.0
PRODID:-//Riccardo Muti - ECPv5.16.4//NONSGML v1.0//EN
CALSCALE:GREGORIAN
METHOD:PUBLISH
X-WR-CALNAME:Riccardo Muti
X-ORIGINAL-URL:https://www.riccardomuti.com
X-WR-CALDESC:Eventi per Riccardo Muti
BEGIN:VTIMEZONE
TZID:Europe/Rome
BEGIN:DAYLIGHT
TZOFFSETFROM:+0100
TZOFFSETTO:+0200
TZNAME:CEST
DTSTART:20210328T010000
END:DAYLIGHT
BEGIN:STANDARD
TZOFFSETFROM:+0200
TZOFFSETTO:+0100
TZNAME:CET
DTSTART:20211031T010000
END:STANDARD
END:VTIMEZONE
BEGIN:VEVENT
DTSTART;VALUE=DATE:20210326
DTEND;VALUE=DATE:20210327
DTSTAMP:20260426T010947
CREATED:20210319T160420Z
LAST-MODIFIED:20210319T160628Z
UID:12349-1616716800-1616803199@www.riccardomuti.com
SUMMARY:Tour in streaming dei Teatri Italiani - Napoli
DESCRIPTION:Dal Teatro Mercadante\, ore 20:00 \nDisponibile su live.napoliteatrofestival.it\, cultura.regione.campania.it\, ansa.it e ravennafestival.live. \nMercadante\, Sinfonia da I due Figaro\nSchubert\, Sinfonia n. 9 La Grande \n\n\n\n\nOrchestra Giovanile Luigi Cherubini
URL:https://www.riccardomuti.com/event/tour-in-streaming-dei-teatri-italiani-napoli-2/
CATEGORIES:Concerto,Orchestra Cherubini
ATTACH;FMTTYPE=image/jpeg:https://www.riccardomuti.com/wp-content/uploads/maestroSenzaAureola.jpg
END:VEVENT
END:VCALENDAR