BEGIN:VCALENDAR
VERSION:2.0
PRODID:-//Riccardo Muti - ECPv5.16.4//NONSGML v1.0//EN
CALSCALE:GREGORIAN
METHOD:PUBLISH
X-WR-CALNAME:Riccardo Muti
X-ORIGINAL-URL:https://www.riccardomuti.com
X-WR-CALDESC:Eventi per Riccardo Muti
BEGIN:VTIMEZONE
TZID:UTC
BEGIN:STANDARD
TZOFFSETFROM:+0000
TZOFFSETTO:+0000
TZNAME:UTC
DTSTART:20250101T000000
END:STANDARD
END:VTIMEZONE
BEGIN:VEVENT
DTSTART;VALUE=DATE:20251118
DTEND;VALUE=DATE:20251201
DTSTAMP:20260419T180926
CREATED:20250128T085112Z
LAST-MODIFIED:20250128T085112Z
UID:17248-1763424000-1764547199@www.riccardomuti.com
SUMMARY:Riccardo Muti Italian Opera Academy 2025\, Milano
DESCRIPTION:Fondazione Prada\, Milano \nDon Giovanni\, Mozart \nDal 18 al 30 novembre
URL:https://www.riccardomuti.com/event/riccardo-muti-italian-opera-academy-2025-milano/
CATEGORIES:Riccardo Muti Italian Opera Academy
ATTACH;FMTTYPE=image/jpeg:https://www.riccardomuti.com/wp-content/uploads/18-Fondazione-Prada_Riccardo-Muti_ph-Lorenzo-Capelli-DSL.jpg
END:VEVENT
END:VCALENDAR