BEGIN:VCALENDAR
VERSION:2.0
PRODID:-//Riccardo Muti - ECPv5.16.4//NONSGML v1.0//EN
CALSCALE:GREGORIAN
METHOD:PUBLISH
X-WR-CALNAME:Riccardo Muti
X-ORIGINAL-URL:https://www.riccardomuti.com
X-WR-CALDESC:Eventi per Riccardo Muti
BEGIN:VTIMEZONE
TZID:UTC
BEGIN:STANDARD
TZOFFSETFROM:+0000
TZOFFSETTO:+0000
TZNAME:UTC
DTSTART:20250101T000000
END:STANDARD
END:VTIMEZONE
BEGIN:VEVENT
DTSTART;VALUE=DATE:20251009
DTEND;VALUE=DATE:20251010
DTSTAMP:20260419T162629
CREATED:20250714T110727Z
LAST-MODIFIED:20250714T110727Z
UID:17548-1759968000-1760054399@www.riccardomuti.com
SUMMARY:Riccardo Muti e Orchestra Cherubini - Venezia
DESCRIPTION:Teatro La Fenice – ore 20:00 \nBeethoven Coriolano\, ouverture in do minore\, op. 62\nMozart Concerto per flauto n.2 in re maggiore K314\nBeethoven Sinfonia n. 7 in la maggiore\, op.92 \nOrchestra Giovanile Luigi Cherubini\nKarl Heinz Schütz\, flauto
URL:https://www.riccardomuti.com/event/riccardo-muti-e-orchestra-cherubini-venezia/
CATEGORIES:Concerto,Orchestra Cherubini
ATTACH;FMTTYPE=image/jpeg:https://www.riccardomuti.com/wp-content/uploads/CSO20220114_291.jpg
END:VEVENT
END:VCALENDAR