BEGIN:VCALENDAR
VERSION:2.0
PRODID:-//Riccardo Muti - ECPv5.16.4//NONSGML v1.0//EN
CALSCALE:GREGORIAN
METHOD:PUBLISH
X-WR-CALNAME:Riccardo Muti
X-ORIGINAL-URL:https://www.riccardomuti.com
X-WR-CALDESC:Eventi per Riccardo Muti
BEGIN:VTIMEZONE
TZID:Europe/Rome
BEGIN:DAYLIGHT
TZOFFSETFROM:+0100
TZOFFSETTO:+0200
TZNAME:CEST
DTSTART:20210328T010000
END:DAYLIGHT
BEGIN:STANDARD
TZOFFSETFROM:+0200
TZOFFSETTO:+0100
TZNAME:CET
DTSTART:20211031T010000
END:STANDARD
END:VTIMEZONE
BEGIN:VEVENT
DTSTART;VALUE=DATE:20210603
DTEND;VALUE=DATE:20210606
DTSTAMP:20260425T050002
CREATED:20200227T095130Z
LAST-MODIFIED:20210121T110737Z
UID:11091-1622678400-1622937599@www.riccardomuti.com
SUMMARY:CANCELLATO: Muti dirige Prokof'ev e Čajkovskij\, Chicago
DESCRIPTION:Cancellato secondo disposizioni per il contenimento della diffusione del virus Covid-19. \nChicago Symphony Center \nGiovedì 3 Giugno ore 19:30\nVenerdì 4 Giugno ore 20:00\nSabato 5 Giugno ore 20:00 \nLiadov Il lago incantato\nProkof’ev Concerto per pianoforte N. 2\nTchaikovsky Sinfonia N.6 \n\n\n\n\nChicago Symphony Orchestra \n\n\n\n\n\nDaniil Trifonov pianoforte
URL:https://www.riccardomuti.com/event/muti-dirige-prokofev-e-cajkovskij-chiago/
CATEGORIES:Chicago Symphony Orchestra,Concerto
ATTACH;FMTTYPE=image/jpeg:https://www.riccardomuti.com/wp-content/uploads/CSO190130_4103-1.jpg
END:VEVENT
END:VCALENDAR