BEGIN:VCALENDAR
VERSION:2.0
PRODID:-//Riccardo Muti - ECPv5.16.4//NONSGML v1.0//EN
CALSCALE:GREGORIAN
METHOD:PUBLISH
X-WR-CALNAME:Riccardo Muti
X-ORIGINAL-URL:https://www.riccardomuti.com
X-WR-CALDESC:Eventi per Riccardo Muti
BEGIN:VTIMEZONE
TZID:UTC
BEGIN:STANDARD
TZOFFSETFROM:+0000
TZOFFSETTO:+0000
TZNAME:UTC
DTSTART:20240101T000000
END:STANDARD
END:VTIMEZONE
BEGIN:VEVENT
DTSTART;VALUE=DATE:20240726
DTEND;VALUE=DATE:20240727
DTSTAMP:20260422T171113
CREATED:20240515T103626Z
LAST-MODIFIED:20240515T104121Z
UID:16882-1721952000-1722038399@www.riccardomuti.com
SUMMARY:Muti dirige l'Orchestre Philharmonique de Monte-Carlo - Monaco
DESCRIPTION:Cour d’honneur du Palais Princier\, Monaco\, ore 21:30 \nCatalani\, Contemplazione\nSchubert\, Sinfonia N.9 (La Grande)
URL:https://www.riccardomuti.com/event/muti-dirige-lorchestre-philharmonique-de-monte-carlo-monaco/
CATEGORIES:Concerto
ATTACH;FMTTYPE=image/png:https://www.riccardomuti.com/wp-content/uploads/RM-Foto-Monaco.png
END:VEVENT
END:VCALENDAR