BEGIN:VCALENDAR
VERSION:2.0
PRODID:-//Riccardo Muti - ECPv5.16.4//NONSGML v1.0//EN
CALSCALE:GREGORIAN
METHOD:PUBLISH
X-WR-CALNAME:Riccardo Muti
X-ORIGINAL-URL:https://www.riccardomuti.com
X-WR-CALDESC:Eventi per Riccardo Muti
BEGIN:VTIMEZONE
TZID:UTC
BEGIN:STANDARD
TZOFFSETFROM:+0000
TZOFFSETTO:+0000
TZNAME:UTC
DTSTART:20240101T000000
END:STANDARD
END:VTIMEZONE
BEGIN:VEVENT
DTSTART;VALUE=DATE:20240530
DTEND;VALUE=DATE:20240602
DTSTAMP:20260421T062011
CREATED:20240209T120128Z
LAST-MODIFIED:20240209T120128Z
UID:16692-1717027200-1717286399@www.riccardomuti.com
SUMMARY:Muti dirige la Symphonieorchester des Bayerischen Rundfunks - Monaco
DESCRIPTION:Gasteig HP8\, Isarphilharmonie – Monaco \nGiovedì 30 maggio\, ore 20:00\nVenerdì 31 maggio\, ore 20:00\nSabato 1 giugno\, ore 19:00 \n\nJoseph Haydn Te Deum\n\n\nFranz Schubert Messa N. 2\, D 167\n\n\nRichard Strauss Aus Italien \n\nSiobhan Stagg soprano\n\n\nJulian Prégardien tenore\nVito Priante basso-baritono\n\nBavarian Radio Chorus\nSymphonieorchester des Bayerischen Rundfunks
URL:https://www.riccardomuti.com/event/muti-dirige-la-symphonieorchester-des-bayerischen-rundfunks-monaco/
CATEGORIES:Concerto
ATTACH;FMTTYPE=image/jpeg:https://www.riccardomuti.com/wp-content/uploads/CSO20230122_0376.jpg
END:VEVENT
END:VCALENDAR