BEGIN:VCALENDAR
VERSION:2.0
PRODID:-//Riccardo Muti - ECPv5.16.4//NONSGML v1.0//EN
CALSCALE:GREGORIAN
METHOD:PUBLISH
X-WR-CALNAME:Riccardo Muti
X-ORIGINAL-URL:https://www.riccardomuti.com
X-WR-CALDESC:Eventi per Riccardo Muti
BEGIN:VTIMEZONE
TZID:UTC
BEGIN:STANDARD
TZOFFSETFROM:+0000
TZOFFSETTO:+0000
TZNAME:UTC
DTSTART:20240101T000000
END:STANDARD
END:VTIMEZONE
BEGIN:VEVENT
DTSTART;VALUE=DATE:20240511
DTEND;VALUE=DATE:20240512
DTSTAMP:20260421T042935
CREATED:20240208T155711Z
LAST-MODIFIED:20240208T155711Z
UID:16658-1715385600-1715471999@www.riccardomuti.com
SUMMARY:Muti dirige i Wiener Philharmoniker - Ravenna
DESCRIPTION:Pala De Andrè\, Ravenna\, Italia – ore 21:00 \nWolfgang Amadeus Mozart Sinfonia N. 35\, K. 385 (“Haffner”)\nFranz Schubert Sinfonia N.  8\, D. 944 (“The Great”) \nORCHESTRA Wiener Philharmoniker
URL:https://www.riccardomuti.com/event/muti-dirige-i-wiener-philharmoniker-ravenna/
CATEGORIES:Concerto,Wiener Philharmoniker
ATTACH;FMTTYPE=image/jpeg:https://www.riccardomuti.com/wp-content/uploads/CSO20230122_0376.jpg
END:VEVENT
END:VCALENDAR