BEGIN:VCALENDAR
VERSION:2.0
PRODID:-//Riccardo Muti - ECPv5.16.4//NONSGML v1.0//EN
CALSCALE:GREGORIAN
METHOD:PUBLISH
X-WR-CALNAME:Riccardo Muti
X-ORIGINAL-URL:https://www.riccardomuti.com
X-WR-CALDESC:Eventi per Riccardo Muti
BEGIN:VTIMEZONE
TZID:Europe/Rome
BEGIN:DAYLIGHT
TZOFFSETFROM:+0100
TZOFFSETTO:+0200
TZNAME:CEST
DTSTART:20210328T010000
END:DAYLIGHT
BEGIN:STANDARD
TZOFFSETFROM:+0200
TZOFFSETTO:+0100
TZNAME:CET
DTSTART:20211031T010000
END:STANDARD
END:VTIMEZONE
BEGIN:VEVENT
DTSTART;VALUE=DATE:20210813
DTEND;VALUE=DATE:20210814
DTSTAMP:20260424T180238
CREATED:20210625T150657Z
LAST-MODIFIED:20210625T150657Z
UID:13278-1628812800-1628899199@www.riccardomuti.com
SUMMARY:Muti dirige Beethoven\, Salisburgo
DESCRIPTION:Großes Festspielhaus\, ore 21:00 \nLudwig van Beethoven\, Missa solemnis op. 123 \nWiener Philharmoniker
URL:https://www.riccardomuti.com/event/muti-dirige-beethoven-salisburgo/
CATEGORIES:Concerto,Wiener Philharmoniker
ATTACH;FMTTYPE=image/png:https://www.riccardomuti.com/wp-content/uploads/Schermata-2021-04-29-alle-11.28.37.png
END:VEVENT
END:VCALENDAR