BEGIN:VCALENDAR
VERSION:2.0
PRODID:-//Riccardo Muti - ECPv5.16.4//NONSGML v1.0//EN
CALSCALE:GREGORIAN
METHOD:PUBLISH
X-WR-CALNAME:Riccardo Muti
X-ORIGINAL-URL:https://www.riccardomuti.com
X-WR-CALDESC:Eventi per Riccardo Muti
BEGIN:VTIMEZONE
TZID:UTC
BEGIN:STANDARD
TZOFFSETFROM:+0000
TZOFFSETTO:+0000
TZNAME:UTC
DTSTART:20260101T000000
END:STANDARD
END:VTIMEZONE
BEGIN:VEVENT
DTSTART;VALUE=DATE:20260226
DTEND;VALUE=DATE:20260227
DTSTAMP:20260421T173332
CREATED:20251224T111623Z
LAST-MODIFIED:20251224T111623Z
UID:17813-1772064000-1772150399@www.riccardomuti.com
SUMMARY:Macbeth - Torino
DESCRIPTION:Teatro Regio di Torino\, ore 20:00 \nMacbeth\, Giuseppe Verdi \n\n\n\n\nOrchestra e Coro Teatro Regio Torino
URL:https://www.riccardomuti.com/event/macbeth-torino-2/
ATTACH;FMTTYPE=image/jpeg:https://www.riccardomuti.com/wp-content/uploads/ND103569.jpg
END:VEVENT
END:VCALENDAR