BEGIN:VCALENDAR
VERSION:2.0
PRODID:-//Riccardo Muti - ECPv5.16.4//NONSGML v1.0//EN
CALSCALE:GREGORIAN
METHOD:PUBLISH
X-WR-CALNAME:Riccardo Muti
X-ORIGINAL-URL:https://www.riccardomuti.com
X-WR-CALDESC:Eventi per Riccardo Muti
BEGIN:VTIMEZONE
TZID:UTC
BEGIN:STANDARD
TZOFFSETFROM:+0000
TZOFFSETTO:+0000
TZNAME:UTC
DTSTART:20230101T000000
END:STANDARD
END:VTIMEZONE
BEGIN:VEVENT
DTSTART;VALUE=DATE:20230813
DTEND;VALUE=DATE:20230816
DTSTAMP:20260424T014258
CREATED:20230113T114502Z
LAST-MODIFIED:20230113T114502Z
UID:15366-1691884800-1692143999@www.riccardomuti.com
SUMMARY:Festival di Salisburgo
DESCRIPTION:Large Festival Hall\, Salisburgo \nDomenica 13 agosto\, ore 11:00\nLunedì 14 agosto\, ore 11:00\nMartedì 15 agosto\, ore 11:00 \nGiuseppe Verdi\, Stabat mater e Te Deum da Quattro pezzi sacri\nAnton Bruckner\, Sinfonia N. 7 \nWiener Philharmoniker
URL:https://www.riccardomuti.com/event/festival-di-salisburgo-2/
CATEGORIES:Wiener Philharmoniker
ATTACH;FMTTYPE=image/jpeg:https://www.riccardomuti.com/wp-content/uploads/Rosellina-Garbo-2021-_GRG5572.jpg
END:VEVENT
END:VCALENDAR