BEGIN:VCALENDAR
VERSION:2.0
PRODID:-//Riccardo Muti - ECPv5.16.4//NONSGML v1.0//EN
CALSCALE:GREGORIAN
METHOD:PUBLISH
X-WR-CALNAME:Riccardo Muti
X-ORIGINAL-URL:https://www.riccardomuti.com
X-WR-CALDESC:Eventi per Riccardo Muti
BEGIN:VTIMEZONE
TZID:Europe/Rome
BEGIN:DAYLIGHT
TZOFFSETFROM:+0100
TZOFFSETTO:+0200
TZNAME:CEST
DTSTART:20180325T010000
END:DAYLIGHT
BEGIN:STANDARD
TZOFFSETFROM:+0200
TZOFFSETTO:+0100
TZNAME:CET
DTSTART:20181028T010000
END:STANDARD
END:VTIMEZONE
BEGIN:VEVENT
DTSTART;VALUE=DATE:20180212
DTEND;VALUE=DATE:20180213
DTSTAMP:20260421T105417
CREATED:20180110T144941Z
LAST-MODIFIED:20180110T144941Z
UID:5159-1518393600-1518479999@www.riccardomuti.com
SUMMARY:East Coast Tour - Naples
DESCRIPTION:Frances pew Hayes Hall\, Artis-Naples – Naples\, FL \nVERDI: Ouverture a I vespri siciliani \nHIGDON: Low Brass Concerto \nBRAHMS: Sinfonia n. 2 in Re Maggiore\, Op. 73 \nChicago Symphony Orchestra
URL:https://www.riccardomuti.com/event/east-coast-tour-naples/
CATEGORIES:Tour CSO
ATTACH;FMTTYPE=image/jpeg:https://www.riccardomuti.com/wp-content/uploads/Riccardo_Muti_-_foto_Todd_Rosemberg_-_940x440.jpg
END:VEVENT
END:VCALENDAR