BEGIN:VCALENDAR
VERSION:2.0
PRODID:-//Riccardo Muti - ECPv5.16.4//NONSGML v1.0//EN
CALSCALE:GREGORIAN
METHOD:PUBLISH
X-WR-CALNAME:Riccardo Muti
X-ORIGINAL-URL:https://www.riccardomuti.com
X-WR-CALDESC:Eventi per Riccardo Muti
BEGIN:VTIMEZONE
TZID:UTC
BEGIN:STANDARD
TZOFFSETFROM:+0000
TZOFFSETTO:+0000
TZNAME:UTC
DTSTART:20240101T000000
END:STANDARD
END:VTIMEZONE
BEGIN:VEVENT
DTSTART;VALUE=DATE:20240509
DTEND;VALUE=DATE:20240510
DTSTAMP:20260421T062248
CREATED:20240208T154017Z
LAST-MODIFIED:20240508T143428Z
UID:16652-1715212800-1715299199@www.riccardomuti.com
SUMMARY:Concert at the Waldbühne - Berlino
DESCRIPTION:Waldbühne Berlin\, Berlino\, Germania – ore 20:00 \nORCHESTRA Vienna Philharmonic \nGiuseppe Verdi\, Ouverture “La forza del destino”\nManuel de Falla\, Suite N. 2 da „El sombrero de tres picos“\nEmmanuel Chabrier\, “España. Rapsodia per Orchestra”\nJohannes Brahms\, Danza ungherese N. 1 in sol minore\nJohannes Brahms\, Danza ungherese N. 4 in fa# minore [Rev. Paul Juon]\nEdvard Grieg\, “Il mattino”\, dalla Suite di “Peer Gynt” N. 1\, op. 46\nAntonín Dvořák\, Danza slava in do maggiore\, op. 46/1\nOttorino Respighi\, “I pini di Roma”
URL:https://www.riccardomuti.com/event/concert-at-the-waldbuhne-berlino/
CATEGORIES:Concerto,Wiener Philharmoniker
ATTACH;FMTTYPE=image/jpeg:https://www.riccardomuti.com/wp-content/uploads/CSO20230223_173.jpg
END:VEVENT
END:VCALENDAR