BEGIN:VCALENDAR
VERSION:2.0
PRODID:-//Riccardo Muti - ECPv5.16.4//NONSGML v1.0//EN
CALSCALE:GREGORIAN
METHOD:PUBLISH
X-WR-CALNAME:Riccardo Muti
X-ORIGINAL-URL:https://www.riccardomuti.com
X-WR-CALDESC:Eventi per Riccardo Muti
BEGIN:VTIMEZONE
TZID:Europe/Rome
BEGIN:DAYLIGHT
TZOFFSETFROM:+0100
TZOFFSETTO:+0200
TZNAME:CEST
DTSTART:20170326T010000
END:DAYLIGHT
BEGIN:STANDARD
TZOFFSETFROM:+0200
TZOFFSETTO:+0100
TZNAME:CET
DTSTART:20171029T010000
END:STANDARD
END:VTIMEZONE
BEGIN:VEVENT
DTSTART;VALUE=DATE:20170223
DTEND;VALUE=DATE:20170226
DTSTAMP:20260420T100736
CREATED:20161221T170700Z
LAST-MODIFIED:20170124T111426Z
UID:2451-1487808000-1488067199@www.riccardomuti.com
SUMMARY:Chicago Symphony Center\, 23\, 24\, 25 febbraio
DESCRIPTION:  \nore 20:00 \nProkof’ev Ivan il Terribile \n  \nChicago Symphony Orchestra \nRiccardo Muti \nGérard Depardieu voce narrante \nSasha Cooke mezzosoprano \nMichail Petrenko basso \nChicago Symphony Chorus \nDuain Wolfe maestro del coro \nChicago Children’s Choir \nJosephine Lee direttrice artistica
URL:https://www.riccardomuti.com/event/chicago-symphony-center-2/
LOCATION:Chicago Symphony Center\, 220 S Michigan Ave\, Chicago\, IL\, 60604\, Stati Uniti
ATTACH;FMTTYPE=image/jpeg:https://www.riccardomuti.com/wp-content/uploads/old_site_img/cso-tribune-big.jpg
END:VEVENT
END:VCALENDAR