BEGIN:VCALENDAR
VERSION:2.0
PRODID:-//Riccardo Muti - ECPv5.16.4//NONSGML v1.0//EN
CALSCALE:GREGORIAN
METHOD:PUBLISH
X-WR-CALNAME:Riccardo Muti
X-ORIGINAL-URL:https://www.riccardomuti.com
X-WR-CALDESC:Eventi per Riccardo Muti
BEGIN:VTIMEZONE
TZID:Europe/Rome
BEGIN:DAYLIGHT
TZOFFSETFROM:+0100
TZOFFSETTO:+0200
TZNAME:CEST
DTSTART:20170326T010000
END:DAYLIGHT
BEGIN:STANDARD
TZOFFSETFROM:+0200
TZOFFSETTO:+0100
TZNAME:CET
DTSTART:20171029T010000
END:STANDARD
END:VTIMEZONE
BEGIN:VEVENT
DTSTART;VALUE=DATE:20170527
DTEND;VALUE=DATE:20170528
DTSTAMP:20260420T102000
CREATED:20170124T104524Z
LAST-MODIFIED:20170524T103334Z
UID:2882-1495843200-1495929599@www.riccardomuti.com
SUMMARY:Berliner Philharmoniker & Anne-Sophie Mutter\, 27 maggio
DESCRIPTION:Philharmonie Berlin – ore 19:00 \nBerliner Philharmoniker \nConcerto anniversario: \nAnne-Sophie Mutter – Berliner Philharmoniker: 40 anni di collaborazione artistica \nČajkovskij\, Concerto per violino in Re Maggiore op. 35 \nViolino: Anne-Sophie Mutter \nČajkovskij\, Sinfonia n. 4 in Fa minore\, op. 36
URL:https://www.riccardomuti.com/event/berlino-27-maggio/
LOCATION:Philharmonie Berlin
ATTACH;FMTTYPE=image/jpeg:https://www.riccardomuti.com/wp-content/uploads/old_site_img/Amicizia3lug_2169.jpg
END:VEVENT
END:VCALENDAR