BEGIN:VCALENDAR
VERSION:2.0
PRODID:-//Riccardo Muti - ECPv5.16.4//NONSGML v1.0//EN
CALSCALE:GREGORIAN
METHOD:PUBLISH
X-WR-CALNAME:Riccardo Muti
X-ORIGINAL-URL:https://www.riccardomuti.com/en/
X-WR-CALDESC:Events for Riccardo Muti
BEGIN:VTIMEZONE
TZID:Europe/Rome
BEGIN:DAYLIGHT
TZOFFSETFROM:+0100
TZOFFSETTO:+0200
TZNAME:CEST
DTSTART:20220327T010000
END:DAYLIGHT
BEGIN:STANDARD
TZOFFSETFROM:+0200
TZOFFSETTO:+0100
TZNAME:CET
DTSTART:20221030T010000
END:STANDARD
END:VTIMEZONE
BEGIN:VEVENT
DTSTART;VALUE=DATE:20220723
DTEND;VALUE=DATE:20220725
DTSTAMP:20260424T042809
CREATED:20220512T103753Z
LAST-MODIFIED:20220624T153535Z
UID:14673-1658534400-1658707199@www.riccardomuti.com
SUMMARY:Muti conducts Bizet and Liszt\, Bari
DESCRIPTION:Teatro Petruzzelli \nSaturday\, July 23 at 8:30 pm\nSunday\, July 24 at 8:30 pm \nGeorges Bizet\nSymphony in C major “Roma” \nAnatoly Konstantinovich Lyadov\nThe Enchanted Lake\, symphonic poem Op. 62 \nFranz Liszt\nLes préludes\, symphonic poem No. 3 from Alphonse de Lamartine S 97 \nOrchestra Giovanile Luigi Cherubini
URL:https://www.riccardomuti.com/en/event/muti-dirige-bizet-e-liszt-lubiana-2/
CATEGORIES:Concerto,Orchestra Cherubini
ATTACH;FMTTYPE=image/png:https://www.riccardomuti.com/wp-content/uploads/evento.png
END:VEVENT
END:VCALENDAR