BEGIN:VCALENDAR
VERSION:2.0
PRODID:-//Riccardo Muti - ECPv5.16.4//NONSGML v1.0//EN
CALSCALE:GREGORIAN
METHOD:PUBLISH
X-WR-CALNAME:Riccardo Muti
X-ORIGINAL-URL:https://www.riccardomuti.com/en/
X-WR-CALDESC:Events for Riccardo Muti
BEGIN:VTIMEZONE
TZID:Europe/Rome
BEGIN:DAYLIGHT
TZOFFSETFROM:+0100
TZOFFSETTO:+0200
TZNAME:CEST
DTSTART:20220327T010000
END:DAYLIGHT
BEGIN:STANDARD
TZOFFSETFROM:+0200
TZOFFSETTO:+0100
TZNAME:CET
DTSTART:20221030T010000
END:STANDARD
END:VTIMEZONE
BEGIN:VEVENT
DTSTART;VALUE=DATE:20220719
DTEND;VALUE=DATE:20220720
DTSTAMP:20260424T042808
CREATED:20220512T101743Z
LAST-MODIFIED:20220624T153525Z
UID:14668-1658188800-1658275199@www.riccardomuti.com
SUMMARY:Muti conducts Bizet and Liszt\, Lubljana Festival
DESCRIPTION:Cankarjev Dom\, at 8:00 pm \nGeorges Bizet\nSymphony in C major “Roma” \nAnatoly Konstantinovich Lyadov\nThe Enchanted Lake\, symphonic poem Op. 62 \nFranz Liszt\nLes préludes\, symphonic poem No. 3 from Alphonse de Lamartine S 97 \nOrchestra Giovanile Luigi Cherubini
URL:https://www.riccardomuti.com/en/event/muti-dirige-bizet-e-liszt-lubiana/
CATEGORIES:Concerto,Orchestra Cherubini
ATTACH;FMTTYPE=image/jpeg:https://www.riccardomuti.com/wp-content/uploads/2019.04.04RigolettocSpring-Festival-in-Tokyo_Satoshi-Aoyagi_DSC3115-1.jpg
END:VEVENT
END:VCALENDAR