BEGIN:VCALENDAR
VERSION:2.0
PRODID:-//Riccardo Muti - ECPv5.16.4//NONSGML v1.0//EN
CALSCALE:GREGORIAN
METHOD:PUBLISH
X-WR-CALNAME:Riccardo Muti
X-ORIGINAL-URL:https://www.riccardomuti.com/en/
X-WR-CALDESC:Events for Riccardo Muti
BEGIN:VTIMEZONE
TZID:Europe/Rome
BEGIN:DAYLIGHT
TZOFFSETFROM:+0100
TZOFFSETTO:+0200
TZNAME:CEST
DTSTART:20220327T010000
END:DAYLIGHT
BEGIN:STANDARD
TZOFFSETFROM:+0200
TZOFFSETTO:+0100
TZNAME:CET
DTSTART:20221030T010000
END:STANDARD
END:VTIMEZONE
BEGIN:VEVENT
DTSTART;VALUE=DATE:20220714
DTEND;VALUE=DATE:20220715
DTSTAMP:20260424T042831
CREATED:20220512T090425Z
LAST-MODIFIED:20220512T095234Z
UID:14659-1657756800-1657843199@www.riccardomuti.com
SUMMARY:The Roads of Friendship\, Loreto
DESCRIPTION:Santuario Pontificio della Santa Casa di Loreto\, at 9:30 pm \nVivaldi\, Magnificat\nMozart\, Ave verum corpus\nMozart\, Concert N. 1 K 412\nVerdi\, Stabat Mater\nVerdi\, Te Deum \nOrchestra Giovanile Luigi Cherubini\nChorus of Italian and Ukrainian artists \nArianna Vendittelli\, soprano\nMargherita Sala\, alto\nFelix Klieser\, horn
URL:https://www.riccardomuti.com/en/event/le-vie-dellamicizia-loreto/
CATEGORIES:Concerto,Orchestra Cherubini,Vie dell’Amicizia
ATTACH;FMTTYPE=image/jpeg:https://www.riccardomuti.com/wp-content/uploads/©Todd-Rosenberg-Photography-by-courtesy-of-riccardomutimusic.com_-scaled.jpg
END:VEVENT
END:VCALENDAR