BEGIN:VCALENDAR
VERSION:2.0
PRODID:-//Riccardo Muti - ECPv5.16.4//NONSGML v1.0//EN
CALSCALE:GREGORIAN
METHOD:PUBLISH
X-WR-CALNAME:Riccardo Muti
X-ORIGINAL-URL:https://www.riccardomuti.com/en/
X-WR-CALDESC:Events for Riccardo Muti
BEGIN:VTIMEZONE
TZID:Europe/Rome
BEGIN:DAYLIGHT
TZOFFSETFROM:+0100
TZOFFSETTO:+0200
TZNAME:CEST
DTSTART:20210328T010000
END:DAYLIGHT
BEGIN:STANDARD
TZOFFSETFROM:+0200
TZOFFSETTO:+0100
TZNAME:CET
DTSTART:20211031T010000
END:STANDARD
END:VTIMEZONE
BEGIN:VEVENT
DTSTART;VALUE=DATE:20210913
DTEND;VALUE=DATE:20210914
DTSTAMP:20260424T203211
CREATED:20210824T141748Z
LAST-MODIFIED:20210824T142531Z
UID:13463-1631491200-1631577599@www.riccardomuti.com
SUMMARY:Special concert within the Dante celebrations\, Florence
DESCRIPTION:Special concert within the celebrations for the 700th anniversary of Dante’s death  \nOrchestra Giovanile Luigi Cherubini\nCoro del Maggio Musicale Fiorentino\nGurgen Baveyan baritone \nspecial guest\nGiovanni Sollima cello \nGiuseppe Verdi\nLaudi alla Vergine Maria for 4-voice female choir from Quattro pezzi Sacri \nTigran Mansurian\nPurgatorio \nFranz Liszt\nDante-Symphonie\, from Dante Alighieri\, S 109
URL:https://www.riccardomuti.com/en/event/concerto-straordinario-nellambito-delle-celebrazioni-dantesche-firenze/
CATEGORIES:Concerto,Maggio Musicale Fiorentino,Orchestra Cherubini
ATTACH;FMTTYPE=image/png:https://www.riccardomuti.com/wp-content/uploads/Schermata-2021-04-29-alle-11.28.37.png
END:VEVENT
END:VCALENDAR