BEGIN:VCALENDAR
VERSION:2.0
PRODID:-//Riccardo Muti - ECPv5.16.4//NONSGML v1.0//EN
CALSCALE:GREGORIAN
METHOD:PUBLISH
X-WR-CALNAME:Riccardo Muti
X-ORIGINAL-URL:https://www.riccardomuti.com/en/
X-WR-CALDESC:Events for Riccardo Muti
BEGIN:VTIMEZONE
TZID:Europe/Rome
BEGIN:DAYLIGHT
TZOFFSETFROM:+0100
TZOFFSETTO:+0200
TZNAME:CEST
DTSTART:20210328T010000
END:DAYLIGHT
BEGIN:STANDARD
TZOFFSETFROM:+0200
TZOFFSETTO:+0100
TZNAME:CET
DTSTART:20211031T010000
END:STANDARD
END:VTIMEZONE
BEGIN:VEVENT
DTSTART;VALUE=DATE:20210901
DTEND;VALUE=DATE:20210902
DTSTAMP:20260424T203029
CREATED:20210820T100019Z
LAST-MODIFIED:20210820T074739Z
UID:13449-1630454400-1630540799@www.riccardomuti.com
SUMMARY:Muti conducts Schubert\, Imola
DESCRIPTION:Teatro Ebe Stignani at 9:00 pm \nFranz Schubert \nOuverture in do maggiore “im italienischen Stile” D. 591\nSymphony in C major “The Great” D. 944 \nOrchestra Cherubini
URL:https://www.riccardomuti.com/en/event/muti-dirige-beethoven-e-schubert-imola/
CATEGORIES:Concerto,Orchestra Cherubini
ATTACH;FMTTYPE=image/jpeg:https://www.riccardomuti.com/wp-content/uploads/©Silvia-Lelli_01lug2018_0719.jpeg
END:VEVENT
END:VCALENDAR