BEGIN:VCALENDAR
VERSION:2.0
PRODID:-//Riccardo Muti - ECPv5.16.4//NONSGML v1.0//EN
CALSCALE:GREGORIAN
METHOD:PUBLISH
X-WR-CALNAME:Riccardo Muti
X-ORIGINAL-URL:https://www.riccardomuti.com/en/
X-WR-CALDESC:Events for Riccardo Muti
BEGIN:VTIMEZONE
TZID:Europe/Rome
BEGIN:DAYLIGHT
TZOFFSETFROM:+0100
TZOFFSETTO:+0200
TZNAME:CEST
DTSTART:20210328T010000
END:DAYLIGHT
BEGIN:STANDARD
TZOFFSETFROM:+0200
TZOFFSETTO:+0100
TZNAME:CET
DTSTART:20211031T010000
END:STANDARD
END:VTIMEZONE
BEGIN:VEVENT
DTSTART;VALUE=DATE:20210714
DTEND;VALUE=DATE:20210715
DTSTAMP:20260424T234150
CREATED:20210623T120513Z
LAST-MODIFIED:20210625T151637Z
UID:13256-1626220800-1626307199@www.riccardomuti.com
SUMMARY:Muti conducts Bellini and Schubert\, Taormina
DESCRIPTION:Teatro Antico \nBellini\, Symphony from Norma\nSchubert\, Symphony in C D 944 La Grande\nOrchestra Giovanile Luigi Cherubini
URL:https://www.riccardomuti.com/en/event/muti-dirige-bellini-e-schubert-taormina/
CATEGORIES:Orchestra Cherubini
ATTACH;FMTTYPE=image/jpeg:https://www.riccardomuti.com/wp-content/uploads/CSO190130_4103.jpg
END:VEVENT
END:VCALENDAR