BEGIN:VCALENDAR
VERSION:2.0
PRODID:-//Riccardo Muti - ECPv5.16.4//NONSGML v1.0//EN
CALSCALE:GREGORIAN
METHOD:PUBLISH
X-WR-CALNAME:Riccardo Muti
X-ORIGINAL-URL:https://www.riccardomuti.com/en/
X-WR-CALDESC:Events for Riccardo Muti
BEGIN:VTIMEZONE
TZID:Europe/Rome
BEGIN:DAYLIGHT
TZOFFSETFROM:+0100
TZOFFSETTO:+0200
TZNAME:CEST
DTSTART:20210328T010000
END:DAYLIGHT
BEGIN:STANDARD
TZOFFSETFROM:+0200
TZOFFSETTO:+0100
TZNAME:CET
DTSTART:20211031T010000
END:STANDARD
END:VTIMEZONE
BEGIN:VEVENT
DTSTART;VALUE=DATE:20210710
DTEND;VALUE=DATE:20210711
DTSTAMP:20260424T234144
CREATED:20210616T150753Z
LAST-MODIFIED:20210616T150753Z
UID:13223-1625875200-1625961599@www.riccardomuti.com
SUMMARY:Muti conducts Schubert\, Caserta
DESCRIPTION:Reggia di Caserta at 9:00 pm \nFranz Schubert\nOuverture in C op. 170 nello stile italiano D591\nSymphony in C D 944 La Grande \nOrchestra Giovanile Luigi Cherubini
URL:https://www.riccardomuti.com/en/event/muti-dirige-schubert-caserta/
CATEGORIES:Concerto,Orchestra Cherubini
ATTACH;FMTTYPE=image/jpeg:https://www.riccardomuti.com/wp-content/uploads/RM.jpg
END:VEVENT
END:VCALENDAR