BEGIN:VCALENDAR
VERSION:2.0
PRODID:-//Riccardo Muti - ECPv5.16.4//NONSGML v1.0//EN
CALSCALE:GREGORIAN
METHOD:PUBLISH
X-WR-CALNAME:Riccardo Muti
X-ORIGINAL-URL:https://www.riccardomuti.com/en/
X-WR-CALDESC:Events for Riccardo Muti
BEGIN:VTIMEZONE
TZID:UTC
BEGIN:STANDARD
TZOFFSETFROM:+0000
TZOFFSETTO:+0000
TZNAME:UTC
DTSTART:20250101T000000
END:STANDARD
END:VTIMEZONE
BEGIN:VEVENT
DTSTART;VALUE=DATE:20251007
DTEND;VALUE=DATE:20251008
DTSTAMP:20260422T104905
CREATED:20250714T103955Z
LAST-MODIFIED:20250714T111114Z
UID:17541-1759795200-1759881599@www.riccardomuti.com
SUMMARY:Riccardo Muti and Orchestra Cherubini - Reggio Emilia
DESCRIPTION:Municipal Theatre Valli – 8:30 PM \nBeethoven Overture to Coriolan\, in C minor\, Op. 62Mozart Flute Concerto No. 2 in D major\, K. 314Beethoven Symphony No. 7 in A major\, Op. 92 \nLuigi Cherubini Youth OrchestraKarl Heinz Schütz\, flute
URL:https://www.riccardomuti.com/en/event/riccardo-muti-e-orchestra-cherubini-reggio-emilia/
CATEGORIES:Concerto,Orchestra Cherubini
ATTACH;FMTTYPE=image/jpeg:https://www.riccardomuti.com/wp-content/uploads/CSO20230223_173.jpg
END:VEVENT
END:VCALENDAR