BEGIN:VCALENDAR
VERSION:2.0
PRODID:-//Riccardo Muti - ECPv5.16.4//NONSGML v1.0//EN
CALSCALE:GREGORIAN
METHOD:PUBLISH
X-WR-CALNAME:Riccardo Muti
X-ORIGINAL-URL:https://www.riccardomuti.com/en/
X-WR-CALDESC:Events for Riccardo Muti
BEGIN:VTIMEZONE
TZID:UTC
BEGIN:STANDARD
TZOFFSETFROM:+0000
TZOFFSETTO:+0000
TZNAME:UTC
DTSTART:20250101T000000
END:STANDARD
END:VTIMEZONE
BEGIN:VEVENT
DTSTART;VALUE=DATE:20251005
DTEND;VALUE=DATE:20251006
DTSTAMP:20260420T092612
CREATED:20250714T103005Z
LAST-MODIFIED:20250714T104418Z
UID:17533-1759622400-1759708799@www.riccardomuti.com
SUMMARY:Riccardo Muti and Orchestra Cherubini - Como
DESCRIPTION:Social Theatre of Como – 8:30 PM \nBeethoven Overture to Coriolan\, in C minor\, Op. 62Mozart Flute Concerto No. 2 in D major\, K.314Beethoven Symphony No. 7 in A major\, Op. 92 \nLuigi Cherubini Youth Orchestra\nKarl Heinz Schütz\, flute
URL:https://www.riccardomuti.com/en/event/riccardo-muti-e-orchestra-cherubini-como/
CATEGORIES:Concerto,Orchestra Cherubini
ATTACH;FMTTYPE=image/png:https://www.riccardomuti.com/wp-content/uploads/RM-4.png
END:VEVENT
END:VCALENDAR