BEGIN:VCALENDAR
VERSION:2.0
PRODID:-//Riccardo Muti - ECPv5.16.4//NONSGML v1.0//EN
CALSCALE:GREGORIAN
METHOD:PUBLISH
X-WR-CALNAME:Riccardo Muti
X-ORIGINAL-URL:https://www.riccardomuti.com/en/
X-WR-CALDESC:Events for Riccardo Muti
BEGIN:VTIMEZONE
TZID:UTC
BEGIN:STANDARD
TZOFFSETFROM:+0000
TZOFFSETTO:+0000
TZNAME:UTC
DTSTART:20250101T000000
END:STANDARD
END:VTIMEZONE
BEGIN:VEVENT
DTSTART;VALUE=DATE:20250624
DTEND;VALUE=DATE:20250625
DTSTAMP:20260420T040857
CREATED:20250327T132901Z
LAST-MODIFIED:20250327T132957Z
UID:17427-1750723200-1750809599@www.riccardomuti.com
SUMMARY:Muti Conducts Verdi Requiem - Chicago
DESCRIPTION:Symphony Center\, Chicago – at 7:30 PM \n\n\n\n\n\n\n\n\n\nVerdi – Requiem \nChicago Symphony OrchestraRiccardo Muti
URL:https://www.riccardomuti.com/en/event/muti-dirige-il-verdi-requiem-chicago-2/
CATEGORIES:Chicago Symphony Orchestra,Concerto
ATTACH;FMTTYPE=image/png:https://www.riccardomuti.com/wp-content/uploads/RM-2.png
END:VEVENT
END:VCALENDAR