BEGIN:VCALENDAR
VERSION:2.0
PRODID:-//Riccardo Muti - ECPv5.16.4//NONSGML v1.0//EN
CALSCALE:GREGORIAN
METHOD:PUBLISH
X-WR-CALNAME:Riccardo Muti
X-ORIGINAL-URL:https://www.riccardomuti.com/en/
X-WR-CALDESC:Events for Riccardo Muti
BEGIN:VTIMEZONE
TZID:UTC
BEGIN:STANDARD
TZOFFSETFROM:+0000
TZOFFSETTO:+0000
TZNAME:UTC
DTSTART:20250101T000000
END:STANDARD
END:VTIMEZONE
BEGIN:VEVENT
DTSTART;VALUE=DATE:20250411
DTEND;VALUE=DATE:20250413
DTSTAMP:20260420T004536
CREATED:20250327T104659Z
LAST-MODIFIED:20250327T104824Z
UID:17383-1744329600-1744502399@www.riccardomuti.com
SUMMARY:Riccardo Muti conducts Tokyo-HARUSAI Festival Orchestra
DESCRIPTION:Bunka Kaikan – Tokyo \nFriday\, April 11\, 7:00 PMSaturday\, April 12\, 3:00 PM \nVerdi\, Overture from NabuccoMascagni\, Intermezzo from Cavalleria RusticanaLeoncavallo\, Intermezzo from PagliacciGiordano\, Intermezzo from FedoraPuccini\, Intermezzo from Manon LescautVerdi\, Overture from La Forza del DestinoCatalani\, ContemplazioneRespighi\, Pines of Rome \nRiccardo MutiTokyo-HARUSAI Festival Orchestra
URL:https://www.riccardomuti.com/en/event/riccardo-muti-dirige-la-tokyo-harusai-festival-orchestra/
CATEGORIES:Concerto
ATTACH;FMTTYPE=image/jpeg:https://www.riccardomuti.com/wp-content/uploads/CSO20220114_291.jpg
END:VEVENT
END:VCALENDAR