BEGIN:VCALENDAR
VERSION:2.0
PRODID:-//Riccardo Muti - ECPv5.16.4//NONSGML v1.0//EN
CALSCALE:GREGORIAN
METHOD:PUBLISH
X-WR-CALNAME:Riccardo Muti
X-ORIGINAL-URL:https://www.riccardomuti.com/en/
X-WR-CALDESC:Events for Riccardo Muti
BEGIN:VTIMEZONE
TZID:UTC
BEGIN:STANDARD
TZOFFSETFROM:+0000
TZOFFSETTO:+0000
TZNAME:UTC
DTSTART:20250101T000000
END:STANDARD
END:VTIMEZONE
BEGIN:VEVENT
DTSTART;VALUE=DATE:20250327
DTEND;VALUE=DATE:20250328
DTSTAMP:20260419T232757
CREATED:20250114T153900Z
LAST-MODIFIED:20250306T095138Z
UID:17234-1743033600-1743119999@www.riccardomuti.com
SUMMARY:Muti dirige il Requiem di Verdi\, Londra
DESCRIPTION:Royal Festival Hall\, at 7:30 PM \nVerdi\, Requiem \nPhilharmonia Orchestra\nMarie Lys – soprano\nElīna Garanča – mezzo-soprano\nPiotr Beczała – tenor\nIldebrando d’Arcangelo – bass\nPhilharmonia Chorus
URL:https://www.riccardomuti.com/en/event/muti-dirige-il-requiem-di-verdi-londra/
CATEGORIES:Concerto
ATTACH;FMTTYPE=image/jpeg:https://www.riccardomuti.com/wp-content/uploads/CSO20230128_2086.jpg
END:VEVENT
END:VCALENDAR