BEGIN:VCALENDAR
VERSION:2.0
PRODID:-//Riccardo Muti - ECPv5.16.4//NONSGML v1.0//EN
CALSCALE:GREGORIAN
METHOD:PUBLISH
X-WR-CALNAME:Riccardo Muti
X-ORIGINAL-URL:https://www.riccardomuti.com/en/
X-WR-CALDESC:Events for Riccardo Muti
BEGIN:VTIMEZONE
TZID:UTC
BEGIN:STANDARD
TZOFFSETFROM:+0000
TZOFFSETTO:+0000
TZNAME:UTC
DTSTART:20250101T000000
END:STANDARD
END:VTIMEZONE
BEGIN:VEVENT
DTSTART;VALUE=DATE:20250123
DTEND;VALUE=DATE:20250124
DTSTAMP:20260419T195822
CREATED:20241219T153555Z
LAST-MODIFIED:20241219T153708Z
UID:17146-1737590400-1737676799@www.riccardomuti.com
SUMMARY:CSO on tour\, Stillwater
DESCRIPTION:McKnight Center for the Performing Arts\, Stillwater\, OK \n\n\n\n\n\n\n\n\n\nBellini\, Overture to Norma\n\nSchubert\, Symphony No. 8 (Unfinished)\n\n\nTchaikovsky\, Symphony No. 4\n\n\n\n\n\nChicago Symphony Orchestra
URL:https://www.riccardomuti.com/en/event/cso-in-tour-stillwater-2/
CATEGORIES:Chicago Symphony Orchestra,Concerto,Tour CSO
ATTACH;FMTTYPE=image/jpeg:https://www.riccardomuti.com/wp-content/uploads/CSO20230122_0376.jpg
END:VEVENT
END:VCALENDAR