BEGIN:VCALENDAR
VERSION:2.0
PRODID:-//Riccardo Muti - ECPv5.16.4//NONSGML v1.0//EN
CALSCALE:GREGORIAN
METHOD:PUBLISH
X-WR-CALNAME:Riccardo Muti
X-ORIGINAL-URL:https://www.riccardomuti.com/en/
X-WR-CALDESC:Events for Riccardo Muti
BEGIN:VTIMEZONE
TZID:UTC
BEGIN:STANDARD
TZOFFSETFROM:+0000
TZOFFSETTO:+0000
TZNAME:UTC
DTSTART:20250101T000000
END:STANDARD
END:VTIMEZONE
BEGIN:VEVENT
DTSTART;VALUE=DATE:20250115
DTEND;VALUE=DATE:20250116
DTSTAMP:20260419T195930
CREATED:20241219T145811Z
LAST-MODIFIED:20241219T151344Z
UID:17117-1736899200-1736985599@www.riccardomuti.com
SUMMARY:CSO on tour\, Naples
DESCRIPTION:Frances Pew Hayes Hall\, Artis-Naples\, Naples\, Florida \n\n\n\n\n\n\nBellini\, Overture to Norma\n\nSchubert\, Symphony No. 8 (Unfinished)\n\n\nTchaikovsky\, Symphony No. 4\n\n\nChicago Symphony Orchestra
URL:https://www.riccardomuti.com/en/event/cso-in-tour-naples-4/
CATEGORIES:Chicago Symphony Orchestra,Concerto,Tour CSO
ATTACH;FMTTYPE=image/jpeg:https://www.riccardomuti.com/wp-content/uploads/CSO20230126_1428.jpg
END:VEVENT
END:VCALENDAR